BEGIN:VCALENDAR
VERSION:2.0
PRODID:-//SOGEX S.r.l - ECPv6.15.1.1//NONSGML v1.0//EN
CALSCALE:GREGORIAN
METHOD:PUBLISH
X-WR-CALNAME:SOGEX S.r.l
X-ORIGINAL-URL:https://toso-me.com
X-WR-CALDESC:Events for SOGEX S.r.l
REFRESH-INTERVAL;VALUE=DURATION:PT1H
X-Robots-Tag:noindex
X-PUBLISHED-TTL:PT1H
BEGIN:VTIMEZONE
TZID:Europe/Moscow
BEGIN:STANDARD
TZOFFSETFROM:+0400
TZOFFSETTO:+0300
TZNAME:MSK
DTSTART:20141025T220000
END:STANDARD
END:VTIMEZONE
BEGIN:VEVENT
DTSTART;TZID=Europe/Moscow:20151018T080000
DTEND;TZID=Europe/Moscow:20151023T170000
DTSTAMP:20260423T172614
CREATED:20180620T113946Z
LAST-MODIFIED:20180620T114821Z
UID:2198-1445155200-1445619600@toso-me.com
SUMMARY:Tax Free World Exhibition – Cannes 2015
DESCRIPTION:Overview: \nOnce a year\, the world’s duty free and travel retail industry meets in Cannes for five days of ideas-sharing\, business development and networking.\nThe reason is TFWA World Exhibition & Conference\, the only truly global event for anyone marketing to international travellers.\nTo find out why you too should come to Cannes\, either as an exhibitor or a visitor\, keep reading. \nCombining a global shop window for premium brands with an industry-wide forum and the chance to network with key influencers\, TFWA World Exhibition & Conference is duty free and travel retail’s unmissable global gathering. To see why over 12\,000 professionals\, both visitor and exhibitor\, attend this annual event in Cannes\, take a look at the video below. \nDetails: http://www.tfwa.com/duty_free/TFWA-World-Exhibition-Conference.16.0.html
URL:https://toso-me.com/index.php/event/tax-free-world-exhibition-cannes-2015/
LOCATION:Cannes\, Cannes\, France
ATTACH;FMTTYPE=image/png:https://toso-me.com/wp-content/uploads/2018/06/logo-tfwa.png
END:VEVENT
BEGIN:VEVENT
DTSTART;TZID=Europe/Moscow:20150320T080000
DTEND;TZID=Europe/Moscow:20150323T170000
DTSTAMP:20260423T172614
CREATED:20180620T113014Z
LAST-MODIFIED:20180620T114554Z
UID:2194-1426838400-1427130000@toso-me.com
SUMMARY:March 2015 Cosmoprof Worldwide – Bologna 2015
DESCRIPTION:HE EXHIBITION\nSince 48 years\, Cosmoprof Worldwide Bologna is the leading 360° worldwide event for the professional beauty sector and an international platform for the cosmetics and wellness industry.\nIn 2014 90\,000 square metres of exhibition space were dedicated to the various sectors of the beauty industry: Perfumery and Cosmetics\, Natural Health\, Packaging and Contract Manufacturing\, Beauty Salon and Spa\, Hair\, Nails. Vast numbers of exhibitors\, visitors and buyers from overseas are turning this event\, year after year\, into a proper international “hub” where professionals and decision makers meet to develop their business.
URL:https://toso-me.com/index.php/event/march-2015-cosmoprof-worldwide-bologna-2015/
LOCATION:Bologna\, Bologna\, Italy
ATTACH;FMTTYPE=image/png:https://toso-me.com/wp-content/uploads/2018/06/logo-header-cosmo-180x50.png
END:VEVENT
BEGIN:VEVENT
DTSTART;TZID=Europe/Moscow:20140404T080000
DTEND;TZID=Europe/Moscow:20140407T170000
DTSTAMP:20260423T172614
CREATED:20180620T112456Z
LAST-MODIFIED:20180620T113246Z
UID:2191-1396598400-1396890000@toso-me.com
SUMMARY:Cosmoprof 2014 – Bologna
DESCRIPTION:For more than 45 years\, Cosmoprof Worldwide Bologna is the leading 360° worldwide event for the professional beauty sector and an international platform for the cosmetics and wellness industry.
URL:https://toso-me.com/index.php/event/cosmoprof-2014-bologna/
LOCATION:Bologna\, Bologna\, Italy
ATTACH;FMTTYPE=image/png:https://toso-me.com/wp-content/uploads/2018/06/logo-header-cosmo-180x50.png
END:VEVENT
BEGIN:VEVENT
DTSTART;TZID=Europe/Moscow:20131020T080000
DTEND;TZID=Europe/Moscow:20131025T170000
DTSTAMP:20260423T172614
CREATED:20180620T111758Z
LAST-MODIFIED:20180620T113319Z
UID:2187-1382256000-1382720400@toso-me.com
SUMMARY:TFWA World Exhibition 2013 – Cannes
DESCRIPTION:The Exhibition at a glance. Global duty free and travel retail’s premier B2B event\, TFWA World Exhibition is where the industry meets each year to exchange ideas\, do business and network. This vibrant five-day forum\, held in Cannes on France’s stylish Côte d’Azur\, is a must for anyone serious about marketing to international travellers. Whether interested in exhibiting or visiting\, read on to find out all about TFWA World Exhibition.
URL:https://toso-me.com/index.php/event/tfwa-world-exhibition-2013-cannes/
LOCATION:Cannes\, Cannes\, France
ATTACH;FMTTYPE=image/png:https://toso-me.com/wp-content/uploads/2018/06/logo-tfwa.png
END:VEVENT
BEGIN:VEVENT
DTSTART;VALUE=DATE:20130804
DTEND;VALUE=DATE:20130806
DTSTAMP:20260423T172614
CREATED:20180620T111219Z
LAST-MODIFIED:20180620T124449Z
UID:2183-1375574400-1375747199@toso-me.com
SUMMARY:Lunch The New website
DESCRIPTION:Emanuele Toso\, an Italian\, originally from Verona\, studied economics and international business at university and graduated in 1985. He started his career as an export manager director in a leading Italian fashion company. During this time\, he travelled worldwide with responsabilities that included the Middle East. He gained a great knowledge of the region\, attained a respect for its rare values that still persist and felt at home. He realised that there was a need for someone to promote.
URL:https://toso-me.com/index.php/event/lunch-the-new-website/
ATTACH;FMTTYPE=image/png:https://toso-me.com/wp-content/uploads/2018/06/screenshot-e1529498652475.png
END:VEVENT
END:VCALENDAR